BEGIN:VCALENDAR
VERSION:2.0
METHOD:REQUEST
PRODID:-//ddaysoftware//NONSGML DDay.iCal 1.0//EN
BEGIN:VTIMEZONE
TZID:Pacific Standard Time
BEGIN:STANDARD
DTSTART:20071102T020000
RRULE:FREQ=YEARLY;BYDAY=1SU;BYHOUR=2;BYMINUTE=0;BYMONTH=11
TZNAME:Pacific Standard Time
TZOFFSETFROM:-0700
TZOFFSETTO:-0800
END:STANDARD
BEGIN:DAYLIGHT
DTSTART:20070301T020000
RRULE:FREQ=YEARLY;BYDAY=2SU;BYHOUR=2;BYMINUTE=0;BYMONTH=3
TZNAME:Pacific Daylight Time
TZOFFSETFROM:-0800
TZOFFSETTO:-0700
END:DAYLIGHT
END:VTIMEZONE
BEGIN:VEVENT
DESCRIPTION:ERJET Root Cause Networking Hour - Voces de Liderazgo: ¡Celebra
 ción de fin de año!Held the Second Thursday of Every Month1:00 PM – 2:00 P
 M PSTInvitada especial: Andrea González\, Co Executive Director de Sana Sa
 na Centro de Salud y ExpresiónEstamos encantadxs de anunciar el lanzamient
 o de nuestra Hora de Networking de Causas Raíces (RCNH) en español\, un es
 pacio intencional para construir comunidad\, profundizar el aprendizaje y 
 apoyar el trabajo centrado en la equidad\, antirracista y descolonial en l
 as comunidades de habla hispana.Se ofrece almuerzo y postreEste evento ser
 á accesible a través de un modelo híbrido. ¡Pueden unirse por medio de Zoo
 m o en persona! Por favor\, regístrese para obtener más información.¡Haga 
 clic aquí para registrarse!Público objetivo: Personal interno de OFB\, ban
 cos de alimentos locales y regionales\, colaboradores\, voluntarios y miem
 bros de la comunidad de Oregón y el suroeste de Washington.Para cualquier 
 pregunta\, por favor contactar a: Sindy Avila\, ERJET (Regional) Senior Co
 ordinator - savila@oregonfoodbank.org\n\n
DTEND;TZID=Pacific Standard Time:20260611T140000
DTSTAMP:20260420T224311Z
DTSTART;TZID=Pacific Standard Time:20260611T130000
LAST-MODIFIED:20260420T224311Z
LOCATION:
ORGANIZER;CN=Courtney Wright via OFB Portals:MAILTO:a72124f5-0535-4070-9ec4
 -6bd6d1573b4c.21@ofbportals.oregonfoodbank.org
SEQUENCE:0
SUMMARY:ERJET Root Cause Networking Hour - Voces de Liderazgo: ¡Celebración
  de fin de año!
UID:a72124f5-0535-4070-9ec4-6bd6d1573b4c
X-ALT-DESC;FMTTYPE=text/html;FMTTYPE=text/html:<div><p id="isPasted"><stron
 g>ERJET Root Cause Networking Hour - Voces de Liderazgo: ¡Celebración de f
 in de año!</strong><br/>Held the Second Thursday of Every Month<br/>1:00 P
 M – 2:00 PM PST<br/><br/>Invitada especial: Andrea González\, Co Executive
  Director de <a href="https://www.google.com/url?q=https%3A%2F%2Fwww.sana-
 cse.org%2Fen&amp\;sa=D&amp\;source=calendar&amp\;ust=1777156620000000&amp\
 ;usg=AOvVaw2r8vPQgWSr4jjM26iZWUwn" target="_blank" data-saferedirecturl="h
 ttps://www.google.com/url?q=https://www.google.com/url?q%3Dhttps%253A%252F
 %252Fwww.sana-cse.org%252Fen%26sa%3DD%26source%3Dcalendar%26ust%3D17771566
 20000000%26usg%3DAOvVaw2r8vPQgWSr4jjM26iZWUwn&amp\;source=gmail&amp\;ust=1
 776811034016000&amp\;usg=AOvVaw3ZZoIOS_daDz_Myu2LV1Ta"><u>Sana Sana Centro
  de Salud y Expresión</u></a><br/><br/>Estamos encantadxs de anunciar el l
 anzamiento de nuestra Hora de Networking de Causas Raíces (RCNH) en españo
 l\, un espacio intencional para construir comunidad\, profundizar el apren
 dizaje y apoyar el trabajo centrado en la equidad\, antirracista y descolo
 nial en las comunidades de habla hispana.<br/><br/><strong>Se ofrece almue
 rzo y postre</strong><br/><br/>Este evento será accesible a través de un m
 odelo híbrido. ¡Pueden unirse por medio de Zoom o en persona! <strong><u>P
 or favor\, regístrese para obtener más información.</u></strong><br/><br/>
 <strong><a href="https://www.google.com/url?q=https%3A%2F%2Fsecure.oregonf
 oodbank.org%2Fa%2Fvoces-de-liderazgo-celebracin-de-fin-de-ao-junio-de-2026
 &amp\;sa=D&amp\;source=calendar&amp\;ust=1777156620000000&amp\;usg=AOvVaw2
 pbxlVmvfZ3PMFVWsN786P" target="_blank" data-saferedirecturl="https://www.g
 oogle.com/url?q=https://www.google.com/url?q%3Dhttps%253A%252F%252Fsecure.
 oregonfoodbank.org%252Fa%252Fvoces-de-liderazgo-celebracin-de-fin-de-ao-ju
 nio-de-2026%26sa%3DD%26source%3Dcalendar%26ust%3D1777156620000000%26usg%3D
 AOvVaw2pbxlVmvfZ3PMFVWsN786P&amp\;source=gmail&amp\;ust=1776811034017000&a
 mp\;usg=AOvVaw37zkylbvFNL65ljTrDU8GD"><u>¡Haga clic aquí para registrarse!
 </u></a></strong><br/><br/><strong>Público objetivo: </strong>Personal int
 erno de OFB\, bancos de alimentos locales y regionales\, colaboradores\, v
 oluntarios y miembros de la comunidad de Oregón y el suroeste de Washingto
 n.</p><p><strong>Para cualquier pregunta\, por favor contactar a: </strong
 >Sindy Avila\, ERJET (Regional) Senior Coordinator - <a href="mailto:savil
 a@oregonfoodbank.org" target="_blank"><u>savila@oregonfoodbank.org</u></a>
 </p></div>\n\n
END:VEVENT
END:VCALENDAR
